BEGIN:VCALENDAR
VERSION:2.0
PRODID:-//NAMI Maine - Mental Health - ECPv6.14.2//NONSGML v1.0//EN
CALSCALE:GREGORIAN
METHOD:PUBLISH
X-WR-CALNAME:NAMI Maine - Mental Health
X-ORIGINAL-URL:https://namimaine.org
X-WR-CALDESC:Events for NAMI Maine - Mental Health
REFRESH-INTERVAL;VALUE=DURATION:PT1H
X-Robots-Tag:noindex
X-PUBLISHED-TTL:PT1H
BEGIN:VTIMEZONE
TZID:UTC
BEGIN:STANDARD
TZOFFSETFROM:+0000
TZOFFSETTO:+0000
TZNAME:UTC
DTSTART:20230101T000000
END:STANDARD
END:VTIMEZONE
BEGIN:VEVENT
DTSTART;TZID=UTC:20231007T100000
DTEND;TZID=UTC:20231007T140000
DTSTAMP:20260419T162711
CREATED:20230626T203109Z
LAST-MODIFIED:20230705T223746Z
UID:3700-1696672800-1696687200@namimaine.org
SUMMARY:NAMIWalks - Maine Event
DESCRIPTION:MENTAL HEALTH FOR ALL\nJoin Us: Saturday\, October 7\, 2023\nCapitol Park\, Augusta\, ME\n\n\n\n\n\nEvery year\, NAMIWalks Maine brings our state together with participants from all walks of life. The event raises awareness for mental health\, strengthens our community\, fosters hope\, and opens doors to support. Together\, we can get more Mainers connected to help & hope. Join our festivities! #AllAreWelcome #Together4MH \nRegister &/or Donate Today! > \nEvent Attendance: Open to Public\nDogs: Welcome & Encouraged (on leash)
URL:https://namimaine.org/event/namiwalks-maine-10-7-2023/
LOCATION:Capitol Park\, Union Street\, Augusta\, ME\, 04330\, United States
CATEGORIES:Event,Fundraiser
ATTACH;FMTTYPE=image/png:https://namimaine.org/wp-content/uploads/2023/06/unnamed.png
ORGANIZER;CN="NAMI Maine":MAILTO:events@namimaine.org
END:VEVENT
BEGIN:VEVENT
DTSTART;TZID=UTC:20231013T090000
DTEND;TZID=UTC:20231013T150000
DTSTAMP:20260419T162711
CREATED:20230826T182907Z
LAST-MODIFIED:20230828T173030Z
UID:3829-1697187600-1697209200@namimaine.org
SUMMARY:Youth Mental Health First Aid Training
DESCRIPTION:Youth Mental Health First Aid is a national best-practice\, evidence-based certification course designed to help adults identify\, understand\, and respond to crisis and non-crisis mental health situations involving youth and teens (age 12-18). This training provides information on common mental health challenges in youth\, skills for holding supportive conversations and connecting youth to appropriate professional care\, and local and national resources for additional support. We encourage all youth-serving adults — school staff\, agency staff\, parents/caregivers\, volunteers\, and community members — to participate and become a well-equipped resource for the young people in your personal and professional lives. \nThis free\, public training will be held on **Friday\, October 13th\, 2023** from **9 AM to 3 PM** at the University of Maine at Augusta – Bangor Campus. We are pleased to offer this training to participants located in Maine. Participants must register below and complete 2 hours of pre-course work before attending. You will receive a confirmation email within 48 hours of your registration with instructions for accessing the pre-work. \nQuestions: Please contact Lily Barter\, Coordinator of Youth Education\, at (800) 464-5767 ext. 2308 or email her at ymhfa@namimaine.org. \nEvent Attendance: Open to Public
URL:https://namimaine.org/event/youth-mental-health-first-aid-training-10-13-2023/
LOCATION:University of Maine at Augusta – Bangor Campus\, 128 Texas Ave\, Bangor\, ME\, 04401\, United States
CATEGORIES:Mental Health First Aid
ATTACH;FMTTYPE=image/png:https://namimaine.org/wp-content/uploads/2023/08/2023.07.25_HCC_YMHFA_group_4.png
ORGANIZER;CN="NAMI Maine":MAILTO:events@namimaine.org
END:VEVENT
BEGIN:VEVENT
DTSTART;TZID=UTC:20231013T093000
DTEND;TZID=UTC:20231013T163000
DTSTAMP:20260419T162711
CREATED:20230826T183511Z
LAST-MODIFIED:20230912T231420Z
UID:3831-1697189400-1697214600@namimaine.org
SUMMARY:Suicide Prevention Assessment and Management Training for Clinicians
DESCRIPTION:This Suicide Assessment and Management Training will be held on Friday\, October 13th from 9:30 AM to 4:30 PM in the Androscoggin Community Room at the Auburn Public Library\, 49 Spring Street\, Auburn\, ME 04210. \nThe Suicide Assessment and Management Training is designed to prepare a new or seasoned clinician to understand the risk of suicide\, how to approach and complete an effective suicide risk assessment and intervention as well as ongoing management for a student at increased risk. The focus is on assessment skills for those working in clinical roles including counselors\, social workers\, nurses\, and psychologists.  \nThe Columbia Suicide Severity Rating Scale (C-SSRS) will be used as a recommended tool for assessment. A systemic approach to suicide prevention is followed where assessment\, intervention\, Collaborative Safety Planning\, and assured follow-up are the critical elements. Assessment and Safety Planning tools and model documentation will be included for ongoing use. \nFor clinical staff working in a school\, this training can be counted for suicide prevention Gatekeeper Training renewal. \nQuestions: Contact Julianne McLaughlin\, Coordinator of Suicide Prevention\, at mspp@namimaine.org or 800-464-5767 ext. 2318. \nEvent Attendance: Open to Public
URL:https://namimaine.org/event/suicide-prevention-assessment-and-management-training-for-clinicians-10-13-2023/
LOCATION:Auburn Public Library\, 49 Spring Street\, Auburn\, ME\, 04210\, United States
CATEGORIES:Suicide Prevention
ATTACH;FMTTYPE=image/png:https://namimaine.org/wp-content/uploads/2023/03/SuicidePrevention_Maine.png
ORGANIZER;CN="NAMI Maine":MAILTO:events@namimaine.org
END:VEVENT
BEGIN:VEVENT
DTSTART;TZID=UTC:20231020T083000
DTEND;TZID=UTC:20231020T153000
DTSTAMP:20260419T162711
CREATED:20230809T013148Z
LAST-MODIFIED:20230809T013148Z
UID:3792-1697790600-1697815800@namimaine.org
SUMMARY:Gatekeeper Training
DESCRIPTION:The Gatekeeper Training will be held on Friday\, October 20th from 8:30 AM to 3:30 PM in Room 106 at the Maine State Library\, 242 State Street\, Augusta\, ME 04330 \nThis training provides an accessible\, introductory overview of suicide prevention. The training will provide up-to-date information regarding suicide\, teach basic suicide intervention skills\, increase personal confidence and the ability to effectively respond to suicidal behavior\, and identify helpful resources available to staff. \nThe Gatekeeper training is the foundation of the Maine Suicide Prevention Program (MSPP). It provides a thorough overview of suicide in Maine and the US\, as well as teaching basic intervention skills and providing resources for appropriate response. \nQuestions: Please contact Julianne McLaughlin\, Coordinator of Suicide Prevention\, at (800) 464-5767\, ext. 2318 or email mspp@namimaine.org. \nEvent Attendance: Open to Public
URL:https://namimaine.org/event/gatekeeper_training_10_20_2023/
LOCATION:Maine State Library\, 64 State House Station\, Augusta\, ME\, 04333\, United States
CATEGORIES:Suicide Prevention
ATTACH;FMTTYPE=image/png:https://namimaine.org/wp-content/uploads/2023/03/SourceOfStrength6.png
ORGANIZER;CN="NAMI Maine":MAILTO:events@namimaine.org
END:VEVENT
END:VCALENDAR