BEGIN:VCALENDAR
VERSION:2.0
PRODID:-//NAMI Maine - Mental Health - ECPv6.14.2//NONSGML v1.0//EN
CALSCALE:GREGORIAN
METHOD:PUBLISH
X-WR-CALNAME:NAMI Maine - Mental Health
X-ORIGINAL-URL:https://namimaine.org
X-WR-CALDESC:Events for NAMI Maine - Mental Health
REFRESH-INTERVAL;VALUE=DURATION:PT1H
X-Robots-Tag:noindex
X-PUBLISHED-TTL:PT1H
BEGIN:VTIMEZONE
TZID:America/New_York
BEGIN:DAYLIGHT
TZOFFSETFROM:-0500
TZOFFSETTO:-0400
TZNAME:EDT
DTSTART:20240310T070000
END:DAYLIGHT
BEGIN:STANDARD
TZOFFSETFROM:-0400
TZOFFSETTO:-0500
TZNAME:EST
DTSTART:20241103T060000
END:STANDARD
END:VTIMEZONE
BEGIN:VEVENT
DTSTART;TZID=America/New_York:20240206T083000
DTEND;TZID=America/New_York:20240206T150000
DTSTAMP:20260419T130013
CREATED:20231113T210555Z
LAST-MODIFIED:20240103T142021Z
UID:4048-1707208200-1707231600@namimaine.org
SUMMARY:Adult Mental Health First Aid Training
DESCRIPTION:Join us for this Free\, Virtual MHFA Training hosted via Zoom…\nAdult Mental Health First Aid is a skills-based training that teaches participants about mental health & substance-use issues. \nIDENTIFY and learn factors and warning signs for mental health and substance use challenges\nUNDERSTAND and build your understanding of the impact of mental illness on individuals and families\nRESPOND to signs of mental illnesses and substance use disorders when you become a Mental Health First Aider \nQuestions: Email tori@namimaine.org \nEvent Attendance: Open to Public
URL:https://namimaine.org/event/adult-mental-health-first-aid-training-2-6-24/
LOCATION:ZOOM
CATEGORIES:Mental Health First Aid
ATTACH;FMTTYPE=image/png:https://namimaine.org/wp-content/uploads/2023/11/AdultMHFA.png
ORGANIZER;CN="NAMI Maine":MAILTO:events@namimaine.org
END:VEVENT
END:VCALENDAR