BEGIN:VCALENDAR
VERSION:2.0
PRODID:-//NAMI Maine - Mental Health - ECPv6.14.2//NONSGML v1.0//EN
CALSCALE:GREGORIAN
METHOD:PUBLISH
X-WR-CALNAME:NAMI Maine - Mental Health
X-ORIGINAL-URL:https://namimaine.org
X-WR-CALDESC:Events for NAMI Maine - Mental Health
REFRESH-INTERVAL;VALUE=DURATION:PT1H
X-Robots-Tag:noindex
X-PUBLISHED-TTL:PT1H
BEGIN:VTIMEZONE
TZID:America/New_York
BEGIN:DAYLIGHT
TZOFFSETFROM:-0500
TZOFFSETTO:-0400
TZNAME:EDT
DTSTART:20260308T070000
END:DAYLIGHT
BEGIN:STANDARD
TZOFFSETFROM:-0400
TZOFFSETTO:-0500
TZNAME:EST
DTSTART:20261101T060000
END:STANDARD
END:VTIMEZONE
BEGIN:VEVENT
DTSTART;TZID=America/New_York:20260127T181500
DTEND;TZID=America/New_York:20260317T204500
DTSTAMP:20260419T093141
CREATED:20251125T164114Z
LAST-MODIFIED:20251125T164114Z
UID:6759-1769537700-1773780300@namimaine.org
SUMMARY:Virtual Family-To-Family Course
DESCRIPTION:This class will begin virtually on January 27\, 2026\, at 6:15 PM and run on Tuesdays for 8 weeks\, ending on March 18th. The classes take place from 6:15 PM to 8:45 PM. \n\nNAMI Family-to-Family is a free\, 8-session educational program for family and friends of adults living with mental health conditions.\n\nWhen you participate in NAMI Family-to-Family\, you will gain information and strategies for taking care of the person you love. You’ll also learn that you’re not alone. The group setting of NAMI Family-to-Family provides mutual support and shared positive impact from people who understand your situation.\n\nThis helpful program is a designated evidence-based program. This means that research shows that the program significantly improves the coping and problem-solving abilities of the people closest to a person with a mental health condition.\n\nNAMI Family-to-Family is taught by NAMI-trained family members who have been there and includes presentations\, discussions\, and interactive exercises.\n\nParticipants should expect a phone call before the first class to confirm their registration. If you have questions\, you can email familysupport@namimaine.org.\n\nTO REGISTER:  https://forms.gle/cC1zvaFKA6UwokKfA
URL:https://namimaine.org/event/virtual-family-to-family-course/
LOCATION:ZOOM
ATTACH;FMTTYPE=image/png:https://namimaine.org/wp-content/uploads/2025/11/Web-Events-Feature-Images-19.png
END:VEVENT
BEGIN:VEVENT
DTSTART;TZID=America/New_York:20260206T083000
DTEND;TZID=America/New_York:20260206T153000
DTSTAMP:20260419T093141
CREATED:20260108T160221Z
LAST-MODIFIED:20260108T160221Z
UID:6819-1770366600-1770391800@namimaine.org
SUMMARY:Suicide Assessment and Management for Clinicians
DESCRIPTION:NAMI Maine’s upcoming Suicide Assessment and Management for Clinicians Training will be held on February 6\, 2026\, from 8:30 AM to 3:30 PM at the Maine School Administrative District #6 Central Office\, 94 Main St\, Buxton\, ME 04093. \nSuicide Assessment and Management Training is designed to prepare a new or seasoned clinician to understand the risk of suicide\, how to approach and complete an effective suicide risk assessment and intervention as well as ongoing management for individuals at increased risk. The focus is on assessment skills for those working in clinical roles including counselors\, social workers\, nurses\, and psychologists. \nThe Columbia Suicide Severity Rating Scale (C-SSRS) will be used as a recommended tool for assessment. A systemic approach to suicide prevention is followed where assessment\, intervention\, collaborative safety planning\, and assured follow-up are the critical elements. Assessment and safety planning tools and model documentation will be included for ongoing use. \nThis training qualifies clinicians for renewal of the Gatekeeper Training certification if they have had a previous Gatekeeper certification. \nTo register for this training\, please use the following link: https://www.surveymonkey.com/r/020626AssessmentRegMSAD6 \nFor questions\, please contact Mary Gagnon at mspp@namimaine.org or (800) 464-5767 ext. 2318.
URL:https://namimaine.org/event/suicide-assessment-and-management-for-clinicians/
LOCATION:Maine School Administrative District #6 Central Office\, 94 Main Street\, Buxton\, ME\, 04093\, United States
ATTACH;FMTTYPE=image/png:https://namimaine.org/wp-content/uploads/2026/01/Web-Events-Feature-Images-25.png
END:VEVENT
END:VCALENDAR