BEGIN:VCALENDAR
VERSION:2.0
PRODID:-//NAMI Maine - Mental Health - ECPv6.14.2//NONSGML v1.0//EN
CALSCALE:GREGORIAN
METHOD:PUBLISH
X-WR-CALNAME:NAMI Maine - Mental Health
X-ORIGINAL-URL:https://namimaine.org
X-WR-CALDESC:Events for NAMI Maine - Mental Health
REFRESH-INTERVAL;VALUE=DURATION:PT1H
X-Robots-Tag:noindex
X-PUBLISHED-TTL:PT1H
BEGIN:VTIMEZONE
TZID:UTC
BEGIN:STANDARD
TZOFFSETFROM:+0000
TZOFFSETTO:+0000
TZNAME:UTC
DTSTART:20230101T000000
END:STANDARD
END:VTIMEZONE
BEGIN:VEVENT
DTSTART;TZID=UTC:20230921T083000
DTEND;TZID=UTC:20230921T133000
DTSTAMP:20260420T104046
CREATED:20230807T201016Z
LAST-MODIFIED:20230809T013307Z
UID:3791-1695285000-1695303000@namimaine.org
SUMMARY:Training of the Trainer
DESCRIPTION:The Training of the Trainer will be held on Thursday\, September 21st from 8:30 AM to 1:30 PM in the Jon Bradley Conference Room at Preble Street\, 55 Portland Street\, Portland\, ME 04101. \nThis training is a half-day program available to train Gatekeepers to facilitate a 1-2 hour Suicide Prevention Awareness Session for co-workers\, school staff\, and/or other community members. Materials\, including the PowerPoint presentations and model handouts\, are provided for preparing\, planning\, and conducting the sessions. \nPrerequisite: Completion of a Gatekeeper Training within the last five (5) years \nQuestions: Please contact Julianne McLaughlin\, Coordinator of Suicide Prevention\, at mspp@namimaine.org or (800) 464-5767 ext. 2318 \nEvent Attendance: Open to Public
URL:https://namimaine.org/event/training-of-the-trainer/
LOCATION:Preble Street\, 55 Portland Street\, Portland\, ME\, 04101\, United States
CATEGORIES:Suicide Prevention,TOT
ATTACH;FMTTYPE=image/png:https://namimaine.org/wp-content/uploads/2023/04/ManTherapy_Header.png
ORGANIZER;CN="NAMI Maine":MAILTO:events@namimaine.org
END:VEVENT
END:VCALENDAR